BEGIN:VCALENDAR
VERSION:2.0
PRODID:-//Lewisville Bible Church - ECPv6.15.20//NONSGML v1.0//EN
CALSCALE:GREGORIAN
METHOD:PUBLISH
X-WR-CALNAME:Lewisville Bible Church
X-ORIGINAL-URL:https://lewisvillebible.com
X-WR-CALDESC:Events for Lewisville Bible Church
REFRESH-INTERVAL;VALUE=DURATION:PT1H
X-Robots-Tag:noindex
X-PUBLISHED-TTL:PT1H
BEGIN:VTIMEZONE
TZID:UTC
BEGIN:STANDARD
TZOFFSETFROM:+0000
TZOFFSETTO:+0000
TZNAME:UTC
DTSTART:20220101T000000
END:STANDARD
END:VTIMEZONE
BEGIN:VEVENT
DTSTART;TZID=UTC:20250608T180000
DTEND;TZID=UTC:20250612T203000
DTSTAMP:20260425T164107
CREATED:20250524T193017Z
LAST-MODIFIED:20250525T050121Z
UID:35421-1749405600-1749760200@lewisvillebible.com
SUMMARY:Magnified! Vacation Bible School
DESCRIPTION:Magnified! Vacation Bible School\nDiscovering the bigness of God in the smallest of things.\nJoin us for a week of wide-eyed wonder as we take a closer look at God’s incredible creation—and discover how every tiny detail points to His greatness. At Magnified! VBS\, kids will learn that God made them\, loves them\, forgives them\, and keeps His promises. \nWith games\, crafts\, Bible stories\, and worship\, each night is designed to help your child magnify the Lord with joy and confidence. \n📅 VBS Kickoff: Sunday\, June 8 | 6–8 PM\nFun games\, friendly faces\, and a preview of the week ahead! \n📚 VBS Week: June 9–12 | 6–8:30 PM\n\nWorship & songs\nEngaging Bible teaching\nCreative crafts\nHigh-energy games\nDelicious snacks\n\nKey Verse:\n\n“Proclaim the Lord’s greatness with me; let us exalt His name together.” – Psalm 34:3 \n\n\n✨ Come see how big God is—even in the smallest things!\n👉 Register now to reserve your spot! \n\nRegister Here
URL:https://lewisvillebible.com/event/35421/
LOCATION:Lewisville Bible Church
CATEGORIES:Special Event
ATTACH;FMTTYPE=image/jpeg:https://lewisvillebible.com/wp-content/uploads/2025/05/VBS-2025_Social-Media-Graphic_Cover-Image_1-topaz-upscale-2000w.jpeg
END:VEVENT
BEGIN:VEVENT
DTSTART;TZID=UTC:20240603T180000
DTEND;TZID=UTC:20240607T203000
DTSTAMP:20260425T164107
CREATED:20240505T205721Z
LAST-MODIFIED:20240505T205801Z
UID:4751-1717437600-1717792200@lewisvillebible.com
SUMMARY:Scuba Vacation Bible School
DESCRIPTION:Send your kids on a splash-tastic adventure!\n\n\n\n\nWe’re taking the kids deep into an amazing undersea adventure where they’ll experience the ever-flowing\, never-ending love of God. \n\nAt Scuba VBS\, kids dive into friendship with God! Scuba is filled with awesome Bible-learning experiences kids see\, hear\, and touch! Hands-on science experiments\, team-building games\, unforgettable Bible songs\, and tasty treats are just a few of the standout activities that help faith flow into real life. (Since everything is hands-on\, kids might get a little messy. Be sure to send them in play clothes and sturdy shoes.) Plus\, we’ll help kids discover how to see evidence of God in everyday life—something we call God Sightings®. Get ready to hear that phrase a lot! \nRegister Below \n 
URL:https://lewisvillebible.com/event/scuba-vacation-bible-school/
LOCATION:Lewisville Bible Church
CATEGORIES:Special Event
ATTACH;FMTTYPE=image/png:https://lewisvillebible.com/wp-content/uploads/2024/05/LBC-2024-VBS-Webgraphics-02.png
END:VEVENT
BEGIN:VEVENT
DTSTART;TZID=UTC:20240324T120000
DTEND;TZID=UTC:20240324T133000
DTSTAMP:20260425T164107
CREATED:20240219T160245Z
LAST-MODIFIED:20240219T160417Z
UID:4587-1711281600-1711287000@lewisvillebible.com
SUMMARY:Lunch with the Pastors
DESCRIPTION:Lunch with the Pastors\nVisitors…First time or recently been visiting? Get to know our staff. \nMarch 24th After the Morning Service \nSign Up Here or Let One of the Pastors Know \nWe Look Forward to Visiting with You!
URL:https://lewisvillebible.com/event/lunch-with-the-pastors/
LOCATION:Lewisville Bible Church
CATEGORIES:Special Event
ATTACH;FMTTYPE=image/jpeg:https://lewisvillebible.com/wp-content/uploads/2024/02/Pastors-Groupd-1200x800-1-e1748043436229.jpg
END:VEVENT
BEGIN:VEVENT
DTSTART;TZID=UTC:20231112T173000
DTEND;TZID=UTC:20231112T200000
DTSTAMP:20260425T164107
CREATED:20231109T145003Z
LAST-MODIFIED:20231109T145033Z
UID:4422-1699810200-1699819200@lewisvillebible.com
SUMMARY:Harvest Dinner
DESCRIPTION:Harvest Dinner\nNovember 12\, 5:30pm\n  \nThere’s great joy in sharing a meal together\, fellowshipping together\, praising God together\, exalting His name as we give thanks for His mighty hand in our lives this past year. \nGive thanks to the Lord\, call on His name. \nMake known His deeds among the peoples;  \nMake them remember that His name is exalted. – Isaiah 12:4 \n 
URL:https://lewisvillebible.com/event/harvest-dinner/
LOCATION:The Servant House\, 911 W Round Grove Rd\, Lewisville\, TX\, 75067\, United States
CATEGORIES:Special Event
ATTACH;FMTTYPE=image/jpeg:https://lewisvillebible.com/wp-content/uploads/2023/11/2023-Harvest-Dinner.jpg
END:VEVENT
BEGIN:VEVENT
DTSTART;TZID=UTC:20231031T180000
DTEND;TZID=UTC:20231031T200000
DTSTAMP:20260425T164107
CREATED:20231029T131256Z
LAST-MODIFIED:20231029T134218Z
UID:4395-1698775200-1698782400@lewisvillebible.com
SUMMARY:Fall-O-Ween
DESCRIPTION:Fall-O-Ween\n(A Crazy Trunk or Treat Night)\nCome for a fun and safe night for the kids with Games\, Face-painting\, and of course\, lots of candy.
URL:https://lewisvillebible.com/event/fall-o-ween/
LOCATION:Lewisville Bible Church
CATEGORIES:Special Event
ATTACH;FMTTYPE=image/jpeg:https://lewisvillebible.com/wp-content/uploads/2023/10/Falloween_1200x800_WebsiteBanner.jpg
END:VEVENT
BEGIN:VEVENT
DTSTART;VALUE=DATE:20230916
DTEND;VALUE=DATE:20230917
DTSTAMP:20260425T164107
CREATED:20230822T181119Z
LAST-MODIFIED:20230906T165629Z
UID:4111-1694822400-1694908799@lewisvillebible.com
SUMMARY:Ladies Brunch
DESCRIPTION:Ladies Brunch\nThis time is truly designed to be one that provides a relaxed environment to engage with other women around the word of God. We do this primarily through fellowshipping around a meal before sitting down to ask questions and share observations about a specific topic or passage from scripture. We hope that you will join us for this month’s brunch! \nKrystal Wakefield will be sharing
URL:https://lewisvillebible.com/event/ladies-brunch/
LOCATION:Lewisville Bible Church
CATEGORIES:Special Event
ATTACH;FMTTYPE=image/jpeg:https://lewisvillebible.com/wp-content/uploads/2023/08/brunch-2022-11-16-18-06-59-utc.jpg
END:VEVENT
BEGIN:VEVENT
DTSTART;TZID=UTC:20230830T182500
DTEND;TZID=UTC:20230830T200000
DTSTAMP:20260425T164107
CREATED:20230822T180440Z
LAST-MODIFIED:20230822T180513Z
UID:4108-1693419900-1693425600@lewisvillebible.com
SUMMARY:Awana Registration & Fun Night
DESCRIPTION:Awana Registration & Fun Night
URL:https://lewisvillebible.com/event/awana-registration-fun-night/
LOCATION:Lewisville Bible Church
CATEGORIES:Special Event
ATTACH;FMTTYPE=image/jpeg:https://lewisvillebible.com/wp-content/uploads/2023/08/awana-clubs-logo-color.jpg
END:VEVENT
BEGIN:VEVENT
DTSTART;TZID=UTC:20230827T173000
DTEND;TZID=UTC:20230827T183000
DTSTAMP:20260425T164107
CREATED:20230822T172615Z
LAST-MODIFIED:20230822T231913Z
UID:4099-1693157400-1693161000@lewisvillebible.com
SUMMARY:Old Time Hymn Sing & Ice Cream Social
DESCRIPTION:Old Time Hymn Sing & Ice Cream Social\nWhether it’s the old hymns or new praise songs you love… come and join us as we praise our Lord and fellowship around an ice cream social.
URL:https://lewisvillebible.com/event/old-time-hymn-sing-ice-cream-social/
LOCATION:Lewisville Bible Church
CATEGORIES:Special Event
ATTACH;FMTTYPE=image/jpeg:https://lewisvillebible.com/wp-content/uploads/2023/08/ice-cream-scoops-on-a-white-marble-background-min-2022-11-10-11-19-27-utc.jpg
END:VEVENT
END:VCALENDAR